BEGIN:VCALENDAR
VERSION:2.0
PRODID:-//hacksw/handcal//NONSGML v1.0//EN
BEGIN:VEVENT
SUMMARY:Soiree galette saucisse
UID:1689323f-6fe0-400d-a1c6-175ee5f82647
DTSTART:20260509T170000Z
DTEND:20260509T210000Z
LOCATION:Localisation   
CATEGORIES:Sportif
STATUS:
URL;VALUE=URI:https://www.aschantepiehandball.com/evenements/2026/05/09/soiree-galette-saucisse-2444200
END:VEVENT
END:VCALENDAR
